BEGIN:VCALENDAR
VERSION:2.0
PRODID:-//Tukios.com/
BEGIN:VEVENT
UID:db3c1d7b-4bbd-4d0d-b22a-20fd9f296703@www.guidryfuneralhome.com
DTSTAMP:20260424T233340Z
DTSTART:20260428T170000Z
DTEND:20260428T173000Z
SUMMARY:Interment
DESCRIPTION:
URL:https://www.guidryfuneralhome.com/obituaries/marion-middlebrooks
LOCATION:First Baptist Cemetery Hwy 35  Church Point LA 70525
GEO:30.4080064;-92.219186
END:VEVENT
END:VCALENDAR