BEGIN:VCALENDAR
VERSION:2.0
PRODID:-//Tukios.com/
BEGIN:VEVENT
UID:9be916f1-ca70-4973-bff4-61536cbfb97a@www.guidryfuneralhome.com
DTSTAMP:20260424T234235Z
DTSTART:20260428T160000Z
DTEND:20260428T170000Z
SUMMARY:Funeral Service
DESCRIPTION:
URL:https://www.guidryfuneralhome.com/obituaries/marion-middlebrooks
LOCATION:Guidry Funeral Home 219 N Broadway St  Church Point LA 70525
GEO:30.4046624;-92.2206014
END:VEVENT
END:VCALENDAR