BEGIN:VCALENDAR
VERSION:2.0
PRODID:-//Tukios.com/
BEGIN:VEVENT
UID:c26170ca-9115-4186-8ca2-ddbaa76c6fab@www.guidryfuneralhome.com
DTSTAMP:20260424T234009Z
DTSTART:20260428T140000Z
DTEND:20260428T160000Z
SUMMARY:Visitation
DESCRIPTION:
URL:https://www.guidryfuneralhome.com/obituaries/marion-middlebrooks
LOCATION: 219 N Broadway St  Church Point LA 70525
GEO:30.4046624;-92.2206014
END:VEVENT
END:VCALENDAR