BEGIN:VCALENDAR
VERSION:2.0
PRODID:-//Tukios.com/
BEGIN:VEVENT
UID:4cbbd0b0-28ac-45ec-baaa-735a255e772c@www.guidryfuneralhome.com
DTSTAMP:20260424T205617Z
DTSTART:20260425T180000Z
DTEND:20260425T220000Z
SUMMARY:Celebration of Life
DESCRIPTION:
URL:https://www.guidryfuneralhome.com/obituaries/buddy-henry
LOCATION:Guidry Funeral Home 219 N Broadway St  Church Point LA 70525
GEO:30.4046624;-92.2206014
END:VEVENT
END:VCALENDAR